BEGIN:VCALENDAR
VERSION:2.0
PRODID:-//HEI - ECPv6.10.2//NONSGML v1.0//EN
CALSCALE:GREGORIAN
METHOD:PUBLISH
X-WR-CALNAME:HEI
X-ORIGINAL-URL:https://hei.eus/es
X-WR-CALDESC:Eventos para HEI
REFRESH-INTERVAL;VALUE=DURATION:PT1H
X-Robots-Tag:noindex
X-PUBLISHED-TTL:PT1H
BEGIN:VTIMEZONE
TZID:Europe/Madrid
BEGIN:DAYLIGHT
TZOFFSETFROM:+0100
TZOFFSETTO:+0200
TZNAME:CEST
DTSTART:20260329T010000
END:DAYLIGHT
BEGIN:STANDARD
TZOFFSETFROM:+0200
TZOFFSETTO:+0100
TZNAME:CET
DTSTART:20261025T010000
END:STANDARD
END:VTIMEZONE
BEGIN:VEVENT
DTSTART;TZID=Europe/Madrid:20260416T173000
DTEND;TZID=Europe/Madrid:20260416T191500
DTSTAMP:20260420T103805
CREATED:20250902T093751Z
LAST-MODIFIED:20260420T073755Z
UID:613421-1776360600-1776366900@hei.eus
SUMMARY:[:es]Cinefórum entre 3: Faisaien Irla[:eu]3ren artean zineforuma: Faisaien Irla[:]
DESCRIPTION:16/04/2026\n		    \n\n		      17:30\n		    \n\n		      Cines Florida\, sala 1\n		    \n\n		      Todos los públicos\n		    \n\n		      Euskera\n		    \n\n\n\nLa isla de los faisanes es el condominio más pequeño del mundo. La mitad del año pertenece al Estado español y la otra mitad al francés. Emerge en mitad del río Bidasoa\, una frontera natural que separa ambos estados. Laida y Sambou\, una pareja local pasea frente a la isla. De repente ven a dos personas cruzando el río a nado para intentar llegar al otro lado. Días después un cadáver aparece durante el intercambio de soberanía de la isla. ¿Quién se hace cargo? \n“¿Qué es una frontera? ¿Una ficción inventada por el ser humano? ¿Una línea imaginaria que tiene consecuencias inhumanas?” \n\nVersión original en euskera y francés\nSubtítulos: Castellano\nIdioma del cinefórum: Euskera\nAño: 2025\nDuración: 98 min.\nPaís: España\nDirección: Asier Urbieta\nGénero: Ficción de Acción Real\n\n\n\n\nAcceso\n\n\nEntrada libre hasta completar aforo. \nEntrada gratuita sin inscripción previa hasta completar aforo \nAforo máximo: 198 \nPlazas adaptadas para personas con movilidad reducida: 4 (2 en butaca y 2 para personas en silla de ruedas) \n \n\n\n\nMás información\n\n\n\nActividad incluida dentro de la Escuela para el empoderamiento feminista.
URL:https://hei.eus/es/eventos/cineforum-entre-3-faisaien-irla/
CATEGORIES:HEI EVENTOS
END:VEVENT
END:VCALENDAR